BEGIN:VCALENDAR
VERSION:2.0
PRODID:-//VLM Commodities LTD - ECPv6.15.20//NONSGML v1.0//EN
CALSCALE:GREGORIAN
METHOD:PUBLISH
X-WR-CALNAME:VLM Commodities LTD
X-ORIGINAL-URL:https://vlmdata.com
X-WR-CALDESC:Events for VLM Commodities LTD
REFRESH-INTERVAL;VALUE=DURATION:PT1H
X-Robots-Tag:noindex
X-PUBLISHED-TTL:PT1H
BEGIN:VTIMEZONE
TZID:America/New_York
BEGIN:DAYLIGHT
TZOFFSETFROM:-0500
TZOFFSETTO:-0400
TZNAME:EDT
DTSTART:20240310T070000
END:DAYLIGHT
BEGIN:STANDARD
TZOFFSETFROM:-0400
TZOFFSETTO:-0500
TZNAME:EST
DTSTART:20241103T060000
END:STANDARD
BEGIN:DAYLIGHT
TZOFFSETFROM:-0500
TZOFFSETTO:-0400
TZNAME:EDT
DTSTART:20250309T070000
END:DAYLIGHT
BEGIN:STANDARD
TZOFFSETFROM:-0400
TZOFFSETTO:-0500
TZNAME:EST
DTSTART:20251102T060000
END:STANDARD
BEGIN:DAYLIGHT
TZOFFSETFROM:-0500
TZOFFSETTO:-0400
TZNAME:EDT
DTSTART:20260308T070000
END:DAYLIGHT
BEGIN:STANDARD
TZOFFSETFROM:-0400
TZOFFSETTO:-0500
TZNAME:EST
DTSTART:20261101T060000
END:STANDARD
END:VTIMEZONE
BEGIN:VEVENT
DTSTART;TZID=America/New_York:20251218T083000
DTEND;TZID=America/New_York:20251218T083000
DTSTAMP:20260424T150724
CREATED:20241231T133621Z
LAST-MODIFIED:20241231T133621Z
UID:8417-1766046600-1766046600@vlmdata.com
SUMMARY:Exports and Sales
DESCRIPTION:
URL:https://vlmdata.com/calendar/exports-and-sales-103/
CATEGORIES:Exports and Sales
END:VEVENT
BEGIN:VEVENT
DTSTART;TZID=America/New_York:20251218T153000
DTEND;TZID=America/New_York:20251218T153000
DTSTAMP:20260424T150724
CREATED:20241231T135903Z
LAST-MODIFIED:20241231T135903Z
UID:8492-1766071800-1766071800@vlmdata.com
SUMMARY:Cotton On Call
DESCRIPTION:
URL:https://vlmdata.com/calendar/cotton-on-call-103/
CATEGORIES:Cotton On Call
END:VEVENT
END:VCALENDAR