BEGIN:VCALENDAR
VERSION:2.0
PRODID:-//VLM Commodities LTD - ECPv6.15.20//NONSGML v1.0//EN
CALSCALE:GREGORIAN
METHOD:PUBLISH
X-WR-CALNAME:VLM Commodities LTD
X-ORIGINAL-URL:https://vlmdata.com
X-WR-CALDESC:Events for VLM Commodities LTD
REFRESH-INTERVAL;VALUE=DURATION:PT1H
X-Robots-Tag:noindex
X-PUBLISHED-TTL:PT1H
BEGIN:VTIMEZONE
TZID:America/New_York
BEGIN:DAYLIGHT
TZOFFSETFROM:-0500
TZOFFSETTO:-0400
TZNAME:EDT
DTSTART:20250309T070000
END:DAYLIGHT
BEGIN:STANDARD
TZOFFSETFROM:-0400
TZOFFSETTO:-0500
TZNAME:EST
DTSTART:20251102T060000
END:STANDARD
BEGIN:DAYLIGHT
TZOFFSETFROM:-0500
TZOFFSETTO:-0400
TZNAME:EDT
DTSTART:20260308T070000
END:DAYLIGHT
BEGIN:STANDARD
TZOFFSETFROM:-0400
TZOFFSETTO:-0500
TZNAME:EST
DTSTART:20261101T060000
END:STANDARD
BEGIN:DAYLIGHT
TZOFFSETFROM:-0500
TZOFFSETTO:-0400
TZNAME:EDT
DTSTART:20270314T070000
END:DAYLIGHT
BEGIN:STANDARD
TZOFFSETFROM:-0400
TZOFFSETTO:-0500
TZNAME:EST
DTSTART:20271107T060000
END:STANDARD
END:VTIMEZONE
BEGIN:VEVENT
DTSTART;TZID=America/New_York:20260402T083000
DTEND;TZID=America/New_York:20260402T083000
DTSTAMP:20260424T112437
CREATED:20260318T135201Z
LAST-MODIFIED:20260318T135201Z
UID:13812-1775118600-1775118600@vlmdata.com
SUMMARY:Exports and Sales
DESCRIPTION:
URL:https://vlmdata.com/calendar/exports-and-sales-118/
CATEGORIES:Exports and Sales
END:VEVENT
BEGIN:VEVENT
DTSTART;TZID=America/New_York:20260402T153000
DTEND;TZID=America/New_York:20260402T153000
DTSTAMP:20260424T112437
CREATED:20260318T140311Z
LAST-MODIFIED:20260318T140311Z
UID:13873-1775143800-1775143800@vlmdata.com
SUMMARY:Cotton On Call
DESCRIPTION:
URL:https://vlmdata.com/calendar/cotton-on-call-118/
CATEGORIES:Cotton On Call
END:VEVENT
END:VCALENDAR