BEGIN:VCALENDAR
VERSION:2.0
PRODID:-//VLM Commodities LTD - ECPv6.15.20//NONSGML v1.0//EN
CALSCALE:GREGORIAN
METHOD:PUBLISH
X-ORIGINAL-URL:https://vlmdata.com
X-WR-CALDESC:Events for VLM Commodities LTD
REFRESH-INTERVAL;VALUE=DURATION:PT1H
X-Robots-Tag:noindex
X-PUBLISHED-TTL:PT1H
BEGIN:VTIMEZONE
TZID:America/New_York
BEGIN:DAYLIGHT
TZOFFSETFROM:-0500
TZOFFSETTO:-0400
TZNAME:EDT
DTSTART:20250309T070000
END:DAYLIGHT
BEGIN:STANDARD
TZOFFSETFROM:-0400
TZOFFSETTO:-0500
TZNAME:EST
DTSTART:20251102T060000
END:STANDARD
BEGIN:DAYLIGHT
TZOFFSETFROM:-0500
TZOFFSETTO:-0400
TZNAME:EDT
DTSTART:20260308T070000
END:DAYLIGHT
BEGIN:STANDARD
TZOFFSETFROM:-0400
TZOFFSETTO:-0500
TZNAME:EST
DTSTART:20261101T060000
END:STANDARD
BEGIN:DAYLIGHT
TZOFFSETFROM:-0500
TZOFFSETTO:-0400
TZNAME:EDT
DTSTART:20270314T070000
END:DAYLIGHT
BEGIN:STANDARD
TZOFFSETFROM:-0400
TZOFFSETTO:-0500
TZNAME:EST
DTSTART:20271107T060000
END:STANDARD
END:VTIMEZONE
BEGIN:VEVENT
DTSTART;TZID=America/New_York:20260807T153000
DTEND;TZID=America/New_York:20260807T153000
DTSTAMP:20260424T115356
CREATED:20260318T133907Z
LAST-MODIFIED:20260318T133907Z
UID:13739-1786116600-1786116600@vlmdata.com
SUMMARY:Commitment of Traders
DESCRIPTION:
URL:https://vlmdata.com/calendar/commitment-of-traders-129/
CATEGORIES:Commitment of Traders
END:VEVENT
BEGIN:VEVENT
DTSTART;TZID=America/New_York:20260810T160000
DTEND;TZID=America/New_York:20260810T160000
DTSTAMP:20260424T115356
CREATED:20260318T134427Z
LAST-MODIFIED:20260318T134427Z
UID:13780-1786377600-1786377600@vlmdata.com
SUMMARY:Crop Progress and Conditions
DESCRIPTION:
URL:https://vlmdata.com/calendar/crop-progress-and-conditions-88/
CATEGORIES:Crop Progress and Conditions
END:VEVENT
BEGIN:VEVENT
DTSTART;TZID=America/New_York:20260812T120000
DTEND;TZID=America/New_York:20260812T120000
DTSTAMP:20260424T115356
CREATED:20260318T135754Z
LAST-MODIFIED:20260318T135754Z
UID:13853-1786536000-1786536000@vlmdata.com
SUMMARY:WASDE
DESCRIPTION:
URL:https://vlmdata.com/calendar/wasde-32/
CATEGORIES:WASDE
END:VEVENT
BEGIN:VEVENT
DTSTART;TZID=America/New_York:20260813T083000
DTEND;TZID=America/New_York:20260813T083000
DTSTAMP:20260424T115356
CREATED:20260318T135446Z
LAST-MODIFIED:20260318T135446Z
UID:13831-1786609800-1786609800@vlmdata.com
SUMMARY:Exports and Sales
DESCRIPTION:
URL:https://vlmdata.com/calendar/exports-and-sales-137/
CATEGORIES:Exports and Sales
END:VEVENT
BEGIN:VEVENT
DTSTART;TZID=America/New_York:20260813T153000
DTEND;TZID=America/New_York:20260813T153000
DTSTAMP:20260424T115356
CREATED:20260318T140600Z
LAST-MODIFIED:20260318T140600Z
UID:13892-1786635000-1786635000@vlmdata.com
SUMMARY:Cotton On Call
DESCRIPTION:
URL:https://vlmdata.com/calendar/cotton-on-call-137/
CATEGORIES:Cotton On Call
END:VEVENT
BEGIN:VEVENT
DTSTART;TZID=America/New_York:20260814T153000
DTEND;TZID=America/New_York:20260814T153000
DTSTAMP:20260424T115356
CREATED:20260318T133908Z
LAST-MODIFIED:20260318T133908Z
UID:13740-1786721400-1786721400@vlmdata.com
SUMMARY:Commitment of Traders
DESCRIPTION:
URL:https://vlmdata.com/calendar/commitment-of-traders-130/
CATEGORIES:Commitment of Traders
END:VEVENT
BEGIN:VEVENT
DTSTART;TZID=America/New_York:20260817T160000
DTEND;TZID=America/New_York:20260817T160000
DTSTAMP:20260424T115356
CREATED:20260318T134427Z
LAST-MODIFIED:20260318T134427Z
UID:13781-1786982400-1786982400@vlmdata.com
SUMMARY:Crop Progress and Conditions
DESCRIPTION:
URL:https://vlmdata.com/calendar/crop-progress-and-conditions-89/
CATEGORIES:Crop Progress and Conditions
END:VEVENT
BEGIN:VEVENT
DTSTART;TZID=America/New_York:20260820T083000
DTEND;TZID=America/New_York:20260820T083000
DTSTAMP:20260424T115356
CREATED:20260318T135447Z
LAST-MODIFIED:20260318T135447Z
UID:13832-1787214600-1787214600@vlmdata.com
SUMMARY:Exports and Sales
DESCRIPTION:
URL:https://vlmdata.com/calendar/exports-and-sales-138/
CATEGORIES:Exports and Sales
END:VEVENT
BEGIN:VEVENT
DTSTART;TZID=America/New_York:20260820T153000
DTEND;TZID=America/New_York:20260820T153000
DTSTAMP:20260424T115356
CREATED:20260318T140600Z
LAST-MODIFIED:20260318T140600Z
UID:13893-1787239800-1787239800@vlmdata.com
SUMMARY:Cotton On Call
DESCRIPTION:
URL:https://vlmdata.com/calendar/cotton-on-call-138/
CATEGORIES:Cotton On Call
END:VEVENT
BEGIN:VEVENT
DTSTART;TZID=America/New_York:20260821T153000
DTEND;TZID=America/New_York:20260821T153000
DTSTAMP:20260424T115356
CREATED:20260318T133908Z
LAST-MODIFIED:20260318T133908Z
UID:13741-1787326200-1787326200@vlmdata.com
SUMMARY:Commitment of Traders
DESCRIPTION:
URL:https://vlmdata.com/calendar/commitment-of-traders-131/
CATEGORIES:Commitment of Traders
END:VEVENT
BEGIN:VEVENT
DTSTART;TZID=America/New_York:20260824T160000
DTEND;TZID=America/New_York:20260824T160000
DTSTAMP:20260424T115356
CREATED:20260318T134627Z
LAST-MODIFIED:20260318T134627Z
UID:13782-1787587200-1787587200@vlmdata.com
SUMMARY:Crop Progress and Conditions
DESCRIPTION:
URL:https://vlmdata.com/calendar/crop-progress-and-conditions-90/
CATEGORIES:Crop Progress and Conditions
END:VEVENT
BEGIN:VEVENT
DTSTART;TZID=America/New_York:20260827T083000
DTEND;TZID=America/New_York:20260827T083000
DTSTAMP:20260424T115356
CREATED:20260318T135447Z
LAST-MODIFIED:20260318T135447Z
UID:13834-1787819400-1787819400@vlmdata.com
SUMMARY:Exports and Sales
DESCRIPTION:
URL:https://vlmdata.com/calendar/exports-and-sales-139/
CATEGORIES:Exports and Sales
END:VEVENT
BEGIN:VEVENT
DTSTART;TZID=America/New_York:20260827T153000
DTEND;TZID=America/New_York:20260827T153000
DTSTAMP:20260424T115356
CREATED:20260318T140600Z
LAST-MODIFIED:20260318T140600Z
UID:13894-1787844600-1787844600@vlmdata.com
SUMMARY:Cotton On Call
DESCRIPTION:
URL:https://vlmdata.com/calendar/cotton-on-call-139/
CATEGORIES:Cotton On Call
END:VEVENT
BEGIN:VEVENT
DTSTART;TZID=America/New_York:20260828T153000
DTEND;TZID=America/New_York:20260828T153000
DTSTAMP:20260424T115356
CREATED:20260318T133909Z
LAST-MODIFIED:20260318T133909Z
UID:13742-1787931000-1787931000@vlmdata.com
SUMMARY:Commitment of Traders
DESCRIPTION:
URL:https://vlmdata.com/calendar/commitment-of-traders-132/
CATEGORIES:Commitment of Traders
END:VEVENT
BEGIN:VEVENT
DTSTART;TZID=America/New_York:20260831T160000
DTEND;TZID=America/New_York:20260831T160000
DTSTAMP:20260424T115356
CREATED:20260318T134627Z
LAST-MODIFIED:20260318T134627Z
UID:13783-1788192000-1788192000@vlmdata.com
SUMMARY:Crop Progress and Conditions
DESCRIPTION:
URL:https://vlmdata.com/calendar/crop-progress-and-conditions-91/
CATEGORIES:Crop Progress and Conditions
END:VEVENT
BEGIN:VEVENT
DTSTART;TZID=America/New_York:20260903T083000
DTEND;TZID=America/New_York:20260903T083000
DTSTAMP:20260424T115356
CREATED:20260318T135500Z
LAST-MODIFIED:20260318T135500Z
UID:13836-1788424200-1788424200@vlmdata.com
SUMMARY:Exports and Sales
DESCRIPTION:
URL:https://vlmdata.com/calendar/exports-and-sales-140/
CATEGORIES:Exports and Sales
END:VEVENT
BEGIN:VEVENT
DTSTART;TZID=America/New_York:20260903T153000
DTEND;TZID=America/New_York:20260903T153000
DTSTAMP:20260424T115356
CREATED:20260318T140759Z
LAST-MODIFIED:20260318T140759Z
UID:13895-1788449400-1788449400@vlmdata.com
SUMMARY:Cotton On Call
DESCRIPTION:
URL:https://vlmdata.com/calendar/cotton-on-call-140/
CATEGORIES:Cotton On Call
END:VEVENT
BEGIN:VEVENT
DTSTART;TZID=America/New_York:20260904T153000
DTEND;TZID=America/New_York:20260904T153000
DTSTAMP:20260424T115356
CREATED:20260318T133922Z
LAST-MODIFIED:20260318T133922Z
UID:13743-1788535800-1788535800@vlmdata.com
SUMMARY:Commitment of Traders
DESCRIPTION:
URL:https://vlmdata.com/calendar/commitment-of-traders-133/
CATEGORIES:Commitment of Traders
END:VEVENT
BEGIN:VEVENT
DTSTART;TZID=America/New_York:20260907T000000
DTEND;TZID=America/New_York:20260907T000000
DTSTAMP:20260424T115356
CREATED:20260318T132818Z
LAST-MODIFIED:20260318T132818Z
UID:13702-1788739200-1788739200@vlmdata.com
SUMMARY:Labor Day
DESCRIPTION:
URL:https://vlmdata.com/calendar/labor-day-3/
CATEGORIES:FALSE
END:VEVENT
BEGIN:VEVENT
DTSTART;TZID=America/New_York:20260908T160000
DTEND;TZID=America/New_York:20260908T160000
DTSTAMP:20260424T115356
CREATED:20260318T134627Z
LAST-MODIFIED:20260318T134627Z
UID:13784-1788883200-1788883200@vlmdata.com
SUMMARY:Crop Progress and Conditions
DESCRIPTION:
URL:https://vlmdata.com/calendar/crop-progress-and-conditions-92/
CATEGORIES:Crop Progress and Conditions
END:VEVENT
BEGIN:VEVENT
DTSTART;TZID=America/New_York:20260910T153000
DTEND;TZID=America/New_York:20260910T153000
DTSTAMP:20260424T115356
CREATED:20260318T140800Z
LAST-MODIFIED:20260318T140800Z
UID:13896-1789054200-1789054200@vlmdata.com
SUMMARY:Cotton On Call
DESCRIPTION:
URL:https://vlmdata.com/calendar/cotton-on-call-141/
CATEGORIES:Cotton On Call
END:VEVENT
BEGIN:VEVENT
DTSTART;TZID=America/New_York:20260911T083000
DTEND;TZID=America/New_York:20260911T083000
DTSTAMP:20260424T115356
CREATED:20260318T135501Z
LAST-MODIFIED:20260318T135501Z
UID:13837-1789115400-1789115400@vlmdata.com
SUMMARY:Exports and Sales
DESCRIPTION:
URL:https://vlmdata.com/calendar/exports-and-sales-141/
CATEGORIES:Exports and Sales
END:VEVENT
BEGIN:VEVENT
DTSTART;TZID=America/New_York:20260911T120000
DTEND;TZID=America/New_York:20260911T120000
DTSTAMP:20260424T115356
CREATED:20260318T135754Z
LAST-MODIFIED:20260318T135754Z
UID:13854-1789128000-1789128000@vlmdata.com
SUMMARY:WASDE
DESCRIPTION:
URL:https://vlmdata.com/calendar/wasde-33/
CATEGORIES:WASDE
END:VEVENT
BEGIN:VEVENT
DTSTART;TZID=America/New_York:20260911T153000
DTEND;TZID=America/New_York:20260911T153000
DTSTAMP:20260424T115356
CREATED:20260318T133922Z
LAST-MODIFIED:20260318T133922Z
UID:13744-1789140600-1789140600@vlmdata.com
SUMMARY:Commitment of Traders
DESCRIPTION:
URL:https://vlmdata.com/calendar/commitment-of-traders-134/
CATEGORIES:Commitment of Traders
END:VEVENT
BEGIN:VEVENT
DTSTART;TZID=America/New_York:20260914T160000
DTEND;TZID=America/New_York:20260914T160000
DTSTAMP:20260424T115356
CREATED:20260318T134628Z
LAST-MODIFIED:20260318T134628Z
UID:13785-1789401600-1789401600@vlmdata.com
SUMMARY:Crop Progress and Conditions
DESCRIPTION:
URL:https://vlmdata.com/calendar/crop-progress-and-conditions-93/
CATEGORIES:Crop Progress and Conditions
END:VEVENT
BEGIN:VEVENT
DTSTART;TZID=America/New_York:20260917T083000
DTEND;TZID=America/New_York:20260917T083000
DTSTAMP:20260424T115356
CREATED:20260318T135501Z
LAST-MODIFIED:20260318T135501Z
UID:13838-1789633800-1789633800@vlmdata.com
SUMMARY:Exports and Sales
DESCRIPTION:
URL:https://vlmdata.com/calendar/exports-and-sales-142/
CATEGORIES:Exports and Sales
END:VEVENT
BEGIN:VEVENT
DTSTART;TZID=America/New_York:20260917T153000
DTEND;TZID=America/New_York:20260917T153000
DTSTAMP:20260424T115356
CREATED:20260318T140800Z
LAST-MODIFIED:20260318T140800Z
UID:13897-1789659000-1789659000@vlmdata.com
SUMMARY:Cotton On Call
DESCRIPTION:
URL:https://vlmdata.com/calendar/cotton-on-call-142/
CATEGORIES:Cotton On Call
END:VEVENT
BEGIN:VEVENT
DTSTART;TZID=America/New_York:20260918T153000
DTEND;TZID=America/New_York:20260918T153000
DTSTAMP:20260424T115356
CREATED:20260318T133923Z
LAST-MODIFIED:20260318T133923Z
UID:13745-1789745400-1789745400@vlmdata.com
SUMMARY:Commitment of Traders
DESCRIPTION:
URL:https://vlmdata.com/calendar/commitment-of-traders-135/
CATEGORIES:Commitment of Traders
END:VEVENT
BEGIN:VEVENT
DTSTART;TZID=America/New_York:20260921T160000
DTEND;TZID=America/New_York:20260921T160000
DTSTAMP:20260424T115356
CREATED:20260318T134628Z
LAST-MODIFIED:20260318T134628Z
UID:13786-1790006400-1790006400@vlmdata.com
SUMMARY:Crop Progress and Conditions
DESCRIPTION:
URL:https://vlmdata.com/calendar/crop-progress-and-conditions-94/
CATEGORIES:Crop Progress and Conditions
END:VEVENT
BEGIN:VEVENT
DTSTART;TZID=America/New_York:20260924T083000
DTEND;TZID=America/New_York:20260924T083000
DTSTAMP:20260424T115356
CREATED:20260318T135502Z
LAST-MODIFIED:20260318T135502Z
UID:13839-1790238600-1790238600@vlmdata.com
SUMMARY:Exports and Sales
DESCRIPTION:
URL:https://vlmdata.com/calendar/exports-and-sales-143/
CATEGORIES:Exports and Sales
END:VEVENT
END:VCALENDAR