BEGIN:VCALENDAR
VERSION:2.0
PRODID:-//VLM Commodities LTD - ECPv6.15.20//NONSGML v1.0//EN
CALSCALE:GREGORIAN
METHOD:PUBLISH
X-ORIGINAL-URL:https://vlmdata.com
X-WR-CALDESC:Events for VLM Commodities LTD
REFRESH-INTERVAL;VALUE=DURATION:PT1H
X-Robots-Tag:noindex
X-PUBLISHED-TTL:PT1H
BEGIN:VTIMEZONE
TZID:America/New_York
BEGIN:DAYLIGHT
TZOFFSETFROM:-0500
TZOFFSETTO:-0400
TZNAME:EDT
DTSTART:20250309T070000
END:DAYLIGHT
BEGIN:STANDARD
TZOFFSETFROM:-0400
TZOFFSETTO:-0500
TZNAME:EST
DTSTART:20251102T060000
END:STANDARD
BEGIN:DAYLIGHT
TZOFFSETFROM:-0500
TZOFFSETTO:-0400
TZNAME:EDT
DTSTART:20260308T070000
END:DAYLIGHT
BEGIN:STANDARD
TZOFFSETFROM:-0400
TZOFFSETTO:-0500
TZNAME:EST
DTSTART:20261101T060000
END:STANDARD
BEGIN:DAYLIGHT
TZOFFSETFROM:-0500
TZOFFSETTO:-0400
TZNAME:EDT
DTSTART:20270314T070000
END:DAYLIGHT
BEGIN:STANDARD
TZOFFSETFROM:-0400
TZOFFSETTO:-0500
TZNAME:EST
DTSTART:20271107T060000
END:STANDARD
END:VTIMEZONE
BEGIN:VEVENT
DTSTART;VALUE=DATE:20260101
DTEND;VALUE=DATE:20260102
DTSTAMP:20260424T130642
CREATED:20241231T125455Z
LAST-MODIFIED:20241231T125714Z
UID:8270-1767225600-1767311999@vlmdata.com
SUMMARY:New Year's Day
DESCRIPTION:
URL:https://vlmdata.com/calendar/new-years-day-3/
CATEGORIES:Trading Holidays
END:VEVENT
BEGIN:VEVENT
DTSTART;TZID=America/New_York:20260102T153000
DTEND;TZID=America/New_York:20260102T153000
DTSTAMP:20260424T130642
CREATED:20260318T140247Z
LAST-MODIFIED:20260318T140247Z
UID:13860-1767367800-1767367800@vlmdata.com
SUMMARY:Cotton On Call
DESCRIPTION:
URL:https://vlmdata.com/calendar/cotton-on-call-105/
CATEGORIES:Cotton On Call
END:VEVENT
BEGIN:VEVENT
DTSTART;TZID=America/New_York:20260105T083000
DTEND;TZID=America/New_York:20260105T083000
DTSTAMP:20260424T130642
CREATED:20260318T135138Z
LAST-MODIFIED:20260318T135138Z
UID:13799-1767601800-1767601800@vlmdata.com
SUMMARY:Exports and Sales
DESCRIPTION:
URL:https://vlmdata.com/calendar/exports-and-sales-105/
CATEGORIES:Exports and Sales
END:VEVENT
BEGIN:VEVENT
DTSTART;TZID=America/New_York:20260105T153000
DTEND;TZID=America/New_York:20260105T153000
DTSTAMP:20260424T130642
CREATED:20260318T133313Z
LAST-MODIFIED:20260318T133313Z
UID:13708-1767627000-1767627000@vlmdata.com
SUMMARY:Commitment of Traders
DESCRIPTION:
URL:https://vlmdata.com/calendar/commitment-of-traders-98/
CATEGORIES:Commitment of Traders
END:VEVENT
BEGIN:VEVENT
DTSTART;TZID=America/New_York:20260108T083000
DTEND;TZID=America/New_York:20260108T083000
DTSTAMP:20260424T130642
CREATED:20260318T135139Z
LAST-MODIFIED:20260318T135139Z
UID:13800-1767861000-1767861000@vlmdata.com
SUMMARY:Exports and Sales
DESCRIPTION:
URL:https://vlmdata.com/calendar/exports-and-sales-106/
CATEGORIES:Exports and Sales
END:VEVENT
BEGIN:VEVENT
DTSTART;TZID=America/New_York:20260108T153000
DTEND;TZID=America/New_York:20260108T153000
DTSTAMP:20260424T130642
CREATED:20260318T140247Z
LAST-MODIFIED:20260318T140247Z
UID:13861-1767886200-1767886200@vlmdata.com
SUMMARY:Cotton On Call
DESCRIPTION:
URL:https://vlmdata.com/calendar/cotton-on-call-106/
CATEGORIES:Cotton On Call
END:VEVENT
BEGIN:VEVENT
DTSTART;TZID=America/New_York:20260109T153000
DTEND;TZID=America/New_York:20260109T153000
DTSTAMP:20260424T130642
CREATED:20260318T133313Z
LAST-MODIFIED:20260318T133313Z
UID:13709-1767972600-1767972600@vlmdata.com
SUMMARY:Commitment of Traders
DESCRIPTION:
URL:https://vlmdata.com/calendar/commitment-of-traders-99/
CATEGORIES:Commitment of Traders
END:VEVENT
BEGIN:VEVENT
DTSTART;TZID=America/New_York:20260112T120000
DTEND;TZID=America/New_York:20260112T120000
DTSTAMP:20260424T130642
CREATED:20260318T135746Z
LAST-MODIFIED:20260318T135746Z
UID:13846-1768219200-1768219200@vlmdata.com
SUMMARY:WASDE
DESCRIPTION:
URL:https://vlmdata.com/calendar/wasde-25/
CATEGORIES:WASDE
END:VEVENT
BEGIN:VEVENT
DTSTART;TZID=America/New_York:20260115T083000
DTEND;TZID=America/New_York:20260115T083000
DTSTAMP:20260424T130642
CREATED:20260318T135139Z
LAST-MODIFIED:20260318T135139Z
UID:13801-1768465800-1768465800@vlmdata.com
SUMMARY:Exports and Sales
DESCRIPTION:
URL:https://vlmdata.com/calendar/exports-and-sales-107/
CATEGORIES:Exports and Sales
END:VEVENT
BEGIN:VEVENT
DTSTART;TZID=America/New_York:20260115T153000
DTEND;TZID=America/New_York:20260115T153000
DTSTAMP:20260424T130642
CREATED:20260318T140248Z
LAST-MODIFIED:20260318T140248Z
UID:13862-1768491000-1768491000@vlmdata.com
SUMMARY:Cotton On Call
DESCRIPTION:
URL:https://vlmdata.com/calendar/cotton-on-call-107/
CATEGORIES:Cotton On Call
END:VEVENT
BEGIN:VEVENT
DTSTART;TZID=America/New_York:20260116T153000
DTEND;TZID=America/New_York:20260116T153000
DTSTAMP:20260424T130642
CREATED:20260318T133314Z
LAST-MODIFIED:20260318T133314Z
UID:13710-1768577400-1768577400@vlmdata.com
SUMMARY:Commitment of Traders
DESCRIPTION:
URL:https://vlmdata.com/calendar/commitment-of-traders-100/
CATEGORIES:Commitment of Traders
END:VEVENT
BEGIN:VEVENT
DTSTART;TZID=America/New_York:20260119T000000
DTEND;TZID=America/New_York:20260119T000000
DTSTAMP:20260424T130642
CREATED:20260318T132803Z
LAST-MODIFIED:20260318T132803Z
UID:13696-1768780800-1768780800@vlmdata.com
SUMMARY:Martin Luther King Day
DESCRIPTION:
URL:https://vlmdata.com/calendar/martin-luther-king-day-3/
CATEGORIES:FALSE
END:VEVENT
BEGIN:VEVENT
DTSTART;TZID=America/New_York:20260122T153000
DTEND;TZID=America/New_York:20260122T153000
DTSTAMP:20260424T130642
CREATED:20260318T140248Z
LAST-MODIFIED:20260318T140248Z
UID:13863-1769095800-1769095800@vlmdata.com
SUMMARY:Cotton On Call
DESCRIPTION:
URL:https://vlmdata.com/calendar/cotton-on-call-108/
CATEGORIES:Cotton On Call
END:VEVENT
BEGIN:VEVENT
DTSTART;TZID=America/New_York:20260123T083000
DTEND;TZID=America/New_York:20260123T083000
DTSTAMP:20260424T130642
CREATED:20260318T135140Z
LAST-MODIFIED:20260318T135140Z
UID:13802-1769157000-1769157000@vlmdata.com
SUMMARY:Exports and Sales
DESCRIPTION:
URL:https://vlmdata.com/calendar/exports-and-sales-108/
CATEGORIES:Exports and Sales
END:VEVENT
BEGIN:VEVENT
DTSTART;TZID=America/New_York:20260123T153000
DTEND;TZID=America/New_York:20260123T153000
DTSTAMP:20260424T130642
CREATED:20260318T133314Z
LAST-MODIFIED:20260318T133314Z
UID:13711-1769182200-1769182200@vlmdata.com
SUMMARY:Commitment of Traders
DESCRIPTION:
URL:https://vlmdata.com/calendar/commitment-of-traders-101/
CATEGORIES:Commitment of Traders
END:VEVENT
BEGIN:VEVENT
DTSTART;TZID=America/New_York:20260129T083000
DTEND;TZID=America/New_York:20260129T083000
DTSTAMP:20260424T130642
CREATED:20260318T135140Z
LAST-MODIFIED:20260318T135140Z
UID:13803-1769675400-1769675400@vlmdata.com
SUMMARY:Exports and Sales
DESCRIPTION:
URL:https://vlmdata.com/calendar/exports-and-sales-109/
CATEGORIES:Exports and Sales
END:VEVENT
BEGIN:VEVENT
DTSTART;TZID=America/New_York:20260129T153000
DTEND;TZID=America/New_York:20260129T153000
DTSTAMP:20260424T130642
CREATED:20260318T140248Z
LAST-MODIFIED:20260318T140248Z
UID:13864-1769700600-1769700600@vlmdata.com
SUMMARY:Cotton On Call
DESCRIPTION:
URL:https://vlmdata.com/calendar/cotton-on-call-109/
CATEGORIES:Cotton On Call
END:VEVENT
BEGIN:VEVENT
DTSTART;TZID=America/New_York:20260130T153000
DTEND;TZID=America/New_York:20260130T153000
DTSTAMP:20260424T130642
CREATED:20260318T133315Z
LAST-MODIFIED:20260318T133315Z
UID:13712-1769787000-1769787000@vlmdata.com
SUMMARY:Commitment of Traders
DESCRIPTION:
URL:https://vlmdata.com/calendar/commitment-of-traders-102/
CATEGORIES:Commitment of Traders
END:VEVENT
END:VCALENDAR